BEGIN:VCALENDAR
VERSION:2.0
PRODID:-//Squarespace Inc/Squarespace 6//v6//EN
BEGIN:VEVENT
UID:5a1b72840d92971bbc01a0fa@squarespace.com
DTSTAMP:20171127T022127Z
DTSTART:20171130T233000Z
DTEND:20171208T000000Z
SUMMARY:Somatechnics (an InMotionLive event)
GEO:-36.851384;174.763965
LOCATION:Auckland LIVE - Aotea Square\, 291-297 Queen Street\, Auckland\, A
 uckland\, 1010\, New Zealand
END:VEVENT
END:VCALENDAR
