BEGIN:VCALENDAR
VERSION:2.0
PRODID:-//Squarespace Inc/Squarespace 6//v6//EN
BEGIN:VEVENT
UID:5a1b6fc424a694106da31a5f@squarespace.com
DTSTAMP:20171127T022202Z
DTSTART:20171203T000000Z
DTEND:20171203T010000Z
SUMMARY:On Display Sculpture Court
GEO:-36.841199;174.758952
LOCATION:Karanga Plaza\, 137 Halsey Street\, Auckland\, New Zealand
END:VEVENT
END:VCALENDAR
