BEGIN:VCALENDAR
VERSION:2.0
PRODID:-//Squarespace Inc/Squarespace 6//v6//EN
BEGIN:VEVENT
UID:59cb200451a584e9659536d0@squarespace.com
DTSTAMP:20171127T022231Z
DTSTART:20170318T233000Z
DTEND:20170318T234500Z
SUMMARY:White Night
GEO:-36.851354;174.766237
LOCATION:Auckland Art Gallery
END:VEVENT
END:VCALENDAR
