BEGIN:VCALENDAR
VERSION:2.0
PRODID:-//Squarespace Inc/Squarespace 6//v6//EN
BEGIN:VEVENT
UID:59cb1ea529f187156156194c@squarespace.com
DTSTAMP:20180801T225923Z
DTSTART:20170610T070000Z
DTEND:20170610T080000Z
SUMMARY:InMotion Matariki 2017
GEO:-36.844403;174.753256
LOCATION:Beaumont Street\, Auckland\, 1010\, New Zealand
END:VEVENT
END:VCALENDAR
