BEGIN:VCALENDAR
VERSION:2.0
PRODID:-//Squarespace Inc/Squarespace 6//v6//EN
BEGIN:VEVENT
UID:5a9f592ce2c48331b47c980c@squarespace.com
DTSTAMP:20180911T043157Z
DTSTART:20180721T053000Z
DTEND:20180721T080000Z
SUMMARY:InMotion Matariki 2018
GEO:-36.840374;174.754912
LOCATION:Silo Park\, Beaumont Street and Jellicoe Street\, Auckland\, New Z
 ealand
END:VEVENT
END:VCALENDAR
