BEGIN:VCALENDAR
VERSION:2.0
PRODID:-//Squarespace Inc/Squarespace 6//v6//EN
BEGIN:VEVENT
UID:5a9f54f5652dea8c73a6a767@squarespace.com
DTSTAMP:20180522T004715Z
DTSTART:20180428T224500Z
DTEND:20180429T040000Z
SUMMARY:International Dance Day 2018
GEO:-41.28646;174.776236
LOCATION:Te Papa\, Wellington\, New Zealand
END:VEVENT
END:VCALENDAR
