BEGIN:VCALENDAR
VERSION:2.0
PRODID:-//Squarespace Inc/Squarespace 6//v6//EN
BEGIN:VEVENT
UID:5b7a1a8eaa4a99fdf3a91ff0@squarespace.com
DTSTAMP:20181107T015250Z
DTSTART:20181102T220000Z
DTEND:20181118T000000Z
SUMMARY:On Display at NZ SculptureOnShore
GEO:-36.815722;174.803893
LOCATION:Fort Takapuna\, 170 Vauxhall Road\, Narrow Neck\, Auckland\, 0624\
 , New Zealand
END:VEVENT
END:VCALENDAR
