BEGIN:VCALENDAR
VERSION:2.0
PRODID:-//Squarespace Inc/Squarespace 6//v6//EN
BEGIN:VEVENT
UID:5b7a177b575d1fcc49208b62@squarespace.com
DTSTAMP:20180914T053933Z
DTSTART:20181005T053000Z
DTEND:20181007T053000Z
SUMMARY:Tempo Dance Festival 2018
GEO:-36.850679;174.764615
LOCATION:Q Theatre (The Loft)\, 305 Queen Street\, Auckland\, Auckland\, 10
 10\, New Zealand
END:VEVENT
END:VCALENDAR
