BEGIN:VCALENDAR
VERSION:2.0
PRODID:-//Squarespace Inc/Squarespace 6//v6//EN
BEGIN:VEVENT
UID:5b7a25f1562fa7c4f8e6f7ce@squarespace.com
DTSTAMP:20181122T042446Z
DTSTART:20181202T233000Z
DTEND:20181203T003000Z
SUMMARY:ON DISPLAY (Auckland) to mark International Day of Persons with Dis
 abilities
GEO:-36.844185;174.767732
LOCATION:Takutai Square\, Britomart\, Auckland\, Auckland\, 1010\, New Zeal
 and
END:VEVENT
END:VCALENDAR
