BEGIN:VCALENDAR
VERSION:2.0
PRODID:-//Squarespace Inc/Squarespace 6//v6//EN
BEGIN:VEVENT
UID:5bf480eac2241bf361964220@squarespace.com
DTSTAMP:20181122T042506Z
DTSTART:20181202T233000Z
DTEND:20181203T003000Z
SUMMARY:ON DISPLAY (Wellington) to mark International Day of Persons with D
 isabilities
GEO:-41.28189;174.776126
LOCATION:Midlands Park\, Lambton Quay\, Wellington\, Wellington\, 6011\, Ne
 w Zealand
END:VEVENT
END:VCALENDAR
