BEGIN:VCALENDAR
VERSION:2.0
PRODID:-//Squarespace Inc/Squarespace 6//v6//EN
BEGIN:VEVENT
UID:5a7bb03c8165f5f6262d4deb@squarespace.com
DTSTAMP:20180208T021337Z
DTSTART:20161102T023000Z
DTEND:20161113T033000Z
SUMMARY:Exhibition and shows - Mairangi Arts Centre
GEO:-36.739277;174.750442
LOCATION:mairangi arts centre
END:VEVENT
END:VCALENDAR
